BEGIN:VCALENDAR
VERSION:2.0
PRODID:-//eventon.com NONSGML v1.0//EN
CALSCALE:GREGORIAN
METHOD:PUBLISH
BEGIN:VEVENT
UID:69e89f126700f
DTSTAMP:20260422T101234Z
DTSTART:20251115T090000Z
DTEND:20251115T140000Z
LOCATION:
SUMMARY:GRAND EXPO 2025
DESCRIPTION:GRAND EXPO 2025\nhttps://unionchristianpublicschool.com/events/
 grand-expo-2025/
URL:https://unionchristianpublicschool.com/events/grand-expo-2025/
END:VEVENT
END:VCALENDAR